BEGIN:VCALENDAR
VERSION:2.0
PRODID:-//Dynamics eShop - ECPv6.15.20//NONSGML v1.0//EN
CALSCALE:GREGORIAN
METHOD:PUBLISH
X-WR-CALNAME:Dynamics eShop
X-ORIGINAL-URL:https://www.dynamicseshop.com
X-WR-CALDESC:Events for Dynamics eShop
REFRESH-INTERVAL;VALUE=DURATION:PT1H
X-Robots-Tag:noindex
X-PUBLISHED-TTL:PT1H
BEGIN:VTIMEZONE
TZID:UTC
BEGIN:STANDARD
TZOFFSETFROM:+0000
TZOFFSETTO:+0000
TZNAME:UTC
DTSTART:20250101T000000
END:STANDARD
END:VTIMEZONE
BEGIN:VEVENT
DTSTART;VALUE=DATE:20260427
DTEND;VALUE=DATE:20260430
DTSTAMP:20260423T122956
CREATED:20260408T141245Z
LAST-MODIFIED:20260409T091308Z
UID:61401-1777248000-1777507199@www.dynamicseshop.com
SUMMARY:Join DeS at Directions North America 2026
DESCRIPTION:We’re thrilled to be heading to Directions North America in Orlando from April 27–29! \nJoin us at Booth #E10 to discover how DeS is pushing boundaries with our latest solutions and innovative technologies. Whether you’re looking to streamline operations\, enhance performance\, or explore what’s next in the industry\, our team will be there to connect\, demonstrate\, and inspire. \nStop by\, say hello\, and see what we’ve been building—we can’t wait to meet you!
URL:https://www.dynamicseshop.com/event/join-des-at-directions-north-america-2026/
ATTACH;FMTTYPE=image/jpeg:https://www.dynamicseshop.com/wp-content/uploads/2026/03/Directions-NA-2026-DeS.jpg
END:VEVENT
BEGIN:VEVENT
DTSTART;VALUE=DATE:20260512
DTEND;VALUE=DATE:20260516
DTSTAMP:20260423T122956
CREATED:20260408T143940Z
LAST-MODIFIED:20260409T091200Z
UID:61440-1778544000-1778889599@www.dynamicseshop.com
SUMMARY:DeS is sponsoring DynamicsCon 2026
DESCRIPTION:We’re excited to announce that DeS will be sponsoring DynamicsCon in Las Vegas from May 12–15! 🎉 \nJoin us at our booth to explore our latest solutions and innovations designed to help you drive efficiency\, unlock new capabilities\, and stay ahead in a rapidly evolving digital landscape. Our team will be on-site to showcase live demos\, share insights\, and discuss how we can support your business goals. \nWhether you’re attending sessions or networking with industry peers\, make sure to stop by\, connect with us\, and see what’s new at DeS—we look forward to meeting you in Las Vegas!
URL:https://www.dynamicseshop.com/event/des-is-sponsoring-dynamicscon-2026/
ATTACH;FMTTYPE=image/jpeg:https://www.dynamicseshop.com/wp-content/uploads/2026/03/DynamicsCon-2026.jpg
END:VEVENT
BEGIN:VEVENT
DTSTART;VALUE=DATE:20260728
DTEND;VALUE=DATE:20260730
DTSTAMP:20260423T122956
CREATED:20260408T150727Z
LAST-MODIFIED:20260409T091101Z
UID:61482-1785196800-1785369599@www.dynamicseshop.com
SUMMARY:DeS is a Sponsor for BizApps Executive Summit 2026
DESCRIPTION:DeS is proud to be a sponsor of the BizApps Executive Summit 2026! \nWe’re excited to join industry leaders in Renton\, WA\, on July 28–29 for this premier event focused on innovation\, leadership\, and the future of business applications. \nVisit us at our booth to explore DeS’s latest solutions and innovations designed to drive digital transformation\, enhance operational efficiency\, and deliver real business impact. Our team will be there to share insights\, showcase capabilities\, and connect with fellow professionals shaping the future of the industry. \nIf you’re attending\, be sure to stop by and say hello—we look forward to seeing you there!
URL:https://www.dynamicseshop.com/event/des-is-a-sponsor-for-bizapps-executive-summit-2026/
ATTACH;FMTTYPE=image/jpeg:https://www.dynamicseshop.com/wp-content/uploads/2026/03/BizApps-2026.jpg
END:VEVENT
BEGIN:VEVENT
DTSTART;VALUE=DATE:20261011
DTEND;VALUE=DATE:20261016
DTSTAMP:20260423T122956
CREATED:20260408T151954Z
LAST-MODIFIED:20260409T091002Z
UID:61487-1791676800-1792108799@www.dynamicseshop.com
SUMMARY:DeS is a Sponsor for Community Summit North America 2026
DESCRIPTION:We’re excited to announce that DeS will be sponsoring Community Summit North America in Nashville\, TN\, October 11–15! \nJoin us at our booth to explore DeS’s latest solutions and innovations built to help organizations accelerate digital transformation and get more value from their business applications. From live demos to expert conversations\, our team will be ready to share insights and show what’s possible. \nWhether you’re attending for learning\, networking\, or discovering new technology\, make sure to stop by and connect with us—we can’t wait to see you in Nashville!
URL:https://www.dynamicseshop.com/event/des-is-a-sponsor-for-community-summit-north-america-2026/
ATTACH;FMTTYPE=image/jpeg:https://www.dynamicseshop.com/wp-content/uploads/2026/03/Community-Summit-North-America-2026.jpg
END:VEVENT
END:VCALENDAR